BEGIN:VCALENDAR
VERSION:2.0
PRODID:-//Disability Rights Texas - ECPv6.13.0//NONSGML v1.0//EN
CALSCALE:GREGORIAN
METHOD:PUBLISH
X-WR-CALNAME:Disability Rights Texas
X-ORIGINAL-URL:https://development.disabilityrightstx.org
X-WR-CALDESC:Events for Disability Rights Texas
REFRESH-INTERVAL;VALUE=DURATION:PT1H
X-Robots-Tag:noindex
X-PUBLISHED-TTL:PT1H
BEGIN:VTIMEZONE
TZID:America/Chicago
BEGIN:DAYLIGHT
TZOFFSETFROM:-0600
TZOFFSETTO:-0500
TZNAME:CDT
DTSTART:20260308T080000
END:DAYLIGHT
BEGIN:STANDARD
TZOFFSETFROM:-0500
TZOFFSETTO:-0600
TZNAME:CST
DTSTART:20261101T070000
END:STANDARD
END:VTIMEZONE
BEGIN:VEVENT
DTSTART;TZID=America/Chicago:20260710T083000
DTEND;TZID=America/Chicago:20260710T153000
DTSTAMP:20260422T181530
CREATED:20260403T125426Z
LAST-MODIFIED:20260403T125426Z
UID:18790-1783672200-1783697400@development.disabilityrightstx.org
SUMMARY:We’re Exhibiting at the Creating Connections Community Conference (Houston)
DESCRIPTION:DRTx will host an exhibit table at the 2026 Creating Connections Community Conference. Stop by and learn more about DRTx!
URL:https://development.disabilityrightstx.org/en/event/were-exhibiting-at-the-creating-connections-community-conference-houston/
LOCATION:The Westin Oaks Houston at the Galleria\, 5011 Westheimer at\, Post Oak Blvd\, Houston\, TX\, 77056\, United States
END:VEVENT
BEGIN:VEVENT
DTSTART;TZID=America/Chicago:20260717T100000
DTEND;TZID=America/Chicago:20260717T170000
DTSTAMP:20260422T181530
CREATED:20260227T191902Z
LAST-MODIFIED:20260227T191902Z
UID:18585-1784282400-1784307600@development.disabilityrightstx.org
SUMMARY:We’re Presenting & Exhibiting at the Pediatric Epilepsy Surgery Conference (Round Rock)
DESCRIPTION:DRTx will present and host an exhibit table at the 2026 Pediatric Epilepsy Surgery Conference + Family Reunion. Stop by to learn about disability rights and to connect with us!
URL:https://development.disabilityrightstx.org/en/event/were-presenting-exhibiting-at-the-pediatric-epilepsy-surgery-conference-round-rock/
LOCATION:Kalahari Resort\, 3001 Kalahari Blvd\, Round Rock\, TX\, 78665\, United States
END:VEVENT
BEGIN:VEVENT
DTSTART;TZID=America/Chicago:20260725T083000
DTEND;TZID=America/Chicago:20260725T150000
DTSTAMP:20260422T181530
CREATED:20250924T193908Z
LAST-MODIFIED:20250924T193908Z
UID:17609-1784968200-1784991600@development.disabilityrightstx.org
SUMMARY:DRTx Board Meeting – July 2026
DESCRIPTION:This meeting will be held virtually from 8:30 am to 3:00 pm. \nThe public is invited to provide comments during a specific time frame during the meeting which is still to be determined. If you would like to provide public comment via Zoom during the meeting or in writing\, please complete our Board Meeting Public Comment Sign Up Form (en español) at least 3 days prior to the meeting. \n  \n 
URL:https://development.disabilityrightstx.org/en/event/drtx-board-meeting-july-2026/
LOCATION:TX
END:VEVENT
END:VCALENDAR