BEGIN:VCALENDAR
VERSION:2.0
PRODID:-//Disability Rights Texas - ECPv6.13.0//NONSGML v1.0//EN
CALSCALE:GREGORIAN
METHOD:PUBLISH
X-ORIGINAL-URL:https://development.disabilityrightstx.org
X-WR-CALDESC:Events for Disability Rights Texas
REFRESH-INTERVAL;VALUE=DURATION:PT1H
X-Robots-Tag:noindex
X-PUBLISHED-TTL:PT1H
BEGIN:VTIMEZONE
TZID:America/Chicago
BEGIN:DAYLIGHT
TZOFFSETFROM:-0600
TZOFFSETTO:-0500
TZNAME:CDT
DTSTART:20250309T080000
END:DAYLIGHT
BEGIN:STANDARD
TZOFFSETFROM:-0500
TZOFFSETTO:-0600
TZNAME:CST
DTSTART:20251102T070000
END:STANDARD
END:VTIMEZONE
BEGIN:VEVENT
DTSTART;TZID=America/Chicago:20251001T120000
DTEND;TZID=America/Chicago:20251001T130000
DTSTAMP:20260423T004224
CREATED:20250815T181515Z
LAST-MODIFIED:20250929T161911Z
UID:17275-1759320000-1759323600@development.disabilityrightstx.org
SUMMARY:DRTx Presents: Fair Housing Webinar
DESCRIPTION:Learn about fair housing rights during this webinar from DRTx. \nJoin Zoom Meeting \nMeeting ID: 844 0745 2883 \nPasscode: 587824
URL:https://development.disabilityrightstx.org/en/event/drtx-presents-fair-housing-webinar-3/
LOCATION:Virtual
ORGANIZER;CN="Disability Rights Texas":MAILTO:info@drtx.org
END:VEVENT
BEGIN:VEVENT
DTSTART;TZID=America/Chicago:20251002T180000
DTEND;TZID=America/Chicago:20251002T190000
DTSTAMP:20260423T004224
CREATED:20250815T181716Z
LAST-MODIFIED:20250929T162006Z
UID:17277-1759428000-1759431600@development.disabilityrightstx.org
SUMMARY:DRTx Presents: Fair Housing Webinar
DESCRIPTION:Learn about fair housing rights during this webinar from DRTx. \nJoin Zoom Meeting \nMeeting ID: 835 2824 5893 \nPasscode: 862816
URL:https://development.disabilityrightstx.org/en/event/drtx-presents-fair-housing-webinar-4/
LOCATION:Virtual
ORGANIZER;CN="Disability Rights Texas":MAILTO:info@drtx.org
END:VEVENT
BEGIN:VEVENT
DTSTART;TZID=America/Chicago:20251011T100000
DTEND;TZID=America/Chicago:20251011T140000
DTSTAMP:20260423T004224
CREATED:20250905T153215Z
LAST-MODIFIED:20250905T153215Z
UID:17465-1760176800-1760191200@development.disabilityrightstx.org
SUMMARY:We’re Exhibiting at White Cane Day of North Texas (Fort Worth)
DESCRIPTION:DRTx will host an exhibit table at White Cane Day of North Texas. Stop by and learn more about DRTx!
URL:https://development.disabilityrightstx.org/en/event/were-exhibiting-at-white-cane-day-of-north-texas-fort-worth/
LOCATION:Sundance Square\, 111 E 4th St.\, Fort Worth\, TX\, 76102\, United States
END:VEVENT
BEGIN:VEVENT
DTSTART;TZID=America/Chicago:20251015T100000
DTEND;TZID=America/Chicago:20251015T140000
DTSTAMP:20260423T004224
CREATED:20250905T154941Z
LAST-MODIFIED:20251006T143021Z
UID:17469-1760522400-1760536800@development.disabilityrightstx.org
SUMMARY:We’re Exhibiting at White Cane Day at TSBVI (Austin)
DESCRIPTION:DRTx will host an exhibit table at White Cane Day at the Texas School for the Blind and Visually Impaired (TSBVI). Stop by and learn more about DRTx!
URL:https://development.disabilityrightstx.org/en/event/were-exhibiting-at-white-cane-awareness-day-san-antonio/
LOCATION:Texas School for the Blind and Visually Impaired\, 1100 W. 45th Street\, Austin\, 78756\, United States
END:VEVENT
BEGIN:VEVENT
DTSTART;TZID=America/Chicago:20251016T130000
DTEND;TZID=America/Chicago:20251016T150000
DTSTAMP:20260423T004224
CREATED:20251006T144643Z
LAST-MODIFIED:20251006T144643Z
UID:17644-1760619600-1760626800@development.disabilityrightstx.org
SUMMARY:Panel – Know Your Rights! (Conroe)
DESCRIPTION:DRTx staff will participate on a panel for the “Know Your Rights!” event. The event is hosted by the Pizza & Politics club at Lone Star College Montgomery.
URL:https://development.disabilityrightstx.org/en/event/panel-know-your-rights-conroe/
LOCATION:Lone Star College Montgomery\, 3200 College Park Dr. (Building G\, Room 102)\, Conroe\, TX\, 77384\, United States
END:VEVENT
BEGIN:VEVENT
DTSTART;TZID=America/Chicago:20251018T090000
DTEND;TZID=America/Chicago:20251018T140000
DTSTAMP:20260423T004224
CREATED:20250919T133622Z
LAST-MODIFIED:20250919T133622Z
UID:17565-1760778000-1760796000@development.disabilityrightstx.org
SUMMARY:We’re Exhibiting at the Supporting Every Step: Children’s Developmental Screening and Resource Fair (Austin)
DESCRIPTION:DRTx will host an exhibit table at the Supporting Every Step: Children’s Developmental Screening and Resource Fair. You can register for the event ahead of time. Stop by and learn more about DRTx!
URL:https://development.disabilityrightstx.org/en/event/were-exhibiting-at-the-supporting-every-step-childrens-developmental-screening-and-resource-fair-austin/
LOCATION:Commons Conference Center\, J.J. Pickle Research Campus\, 2901 Read Granberry Trail\, Austin\, TX\, 78758\, United States
END:VEVENT
BEGIN:VEVENT
DTSTART;TZID=America/Chicago:20251019T120000
DTEND;TZID=America/Chicago:20251019T160000
DTSTAMP:20260423T004224
CREATED:20251010T131124Z
LAST-MODIFIED:20251010T131329Z
UID:17678-1760875200-1760889600@development.disabilityrightstx.org
SUMMARY:We’re Exhibiting at the DSACT Buddy Walk® (Georgetown)
DESCRIPTION:DRTx will host an exhibit table at the DSACT 25th Annual Buddy Walk®. Stop by and learn more about DRTx!
URL:https://development.disabilityrightstx.org/en/event/were-exhibiting-at-the-dsact-buddy-walkgeorgetown/
LOCATION:Reunion Ranch\, 850 Co Rd 255\, Georgetown\, TX\, 78633\, United States
END:VEVENT
BEGIN:VEVENT
DTSTART;TZID=America/Chicago:20251020T103000
DTEND;TZID=America/Chicago:20251020T140000
DTSTAMP:20260423T004224
CREATED:20250718T183644Z
LAST-MODIFIED:20250718T183644Z
UID:17016-1760956200-1760968800@development.disabilityrightstx.org
SUMMARY:We’re Exhibiting at White Cane Safety Day (Houston)
DESCRIPTION:DRTx will host an exhibit table at White Cane Safety Day. Stop by and learn more about DRTx!
URL:https://development.disabilityrightstx.org/en/event/were-exhibiting-at-white-cane-safety-day-houston/
LOCATION:University of Houston\, 4302 University Dr\, Houston\, TX\, 77004\, United States
END:VEVENT
BEGIN:VEVENT
DTSTART;TZID=America/Chicago:20251022T120000
DTEND;TZID=America/Chicago:20251022T130000
DTSTAMP:20260423T004224
CREATED:20250929T163859Z
LAST-MODIFIED:20250929T163859Z
UID:17632-1761134400-1761138000@development.disabilityrightstx.org
SUMMARY:Webinar: Disclosing Disability: When\, Why and How?
DESCRIPTION:There are benefits and challenges to disclosing disability to an employer. Do I need to disclose my disability\, when do I disclose\, how do I disclose\, what are my rights\, and do I have responsibilities when I disclose? This session will focus on key factors to consider when making the determination\, when\, if and how to disclose disability. \nDuring this webinar\, DRTx’s Randi Turner will present on the topic of disclosing disability. Register for the webinar \nThe webinar is part of the University of Arkansas’ National Disability Employment Awareness Month celebration.
URL:https://development.disabilityrightstx.org/en/event/webinar-disclosing-disability-when-why-and-how/
LOCATION:Zoom
END:VEVENT
BEGIN:VEVENT
DTSTART;TZID=America/Chicago:20251024T090000
DTEND;TZID=America/Chicago:20251024T170000
DTSTAMP:20260423T004224
CREATED:20250919T134644Z
LAST-MODIFIED:20250919T134957Z
UID:17568-1761296400-1761325200@development.disabilityrightstx.org
SUMMARY:We’re Exhibiting at the Making Connections Pediatric Brain Injury Conference & Resource Fair (Austin)
DESCRIPTION:DRTx will host an exhibit table at the Making Connections Pediatric Brain Injury Conference & Resource Fair. Stop by and learn more about DRTx!
URL:https://development.disabilityrightstx.org/en/event/were-exhibiting-at-the-making-connections-pediatric-brain-injury-conference-resource-fair-austin/
LOCATION:Woodlawn Baptist Church\, 4600 Menchaca Road\, Austin\, TX\, 78745\, United States
END:VEVENT
BEGIN:VEVENT
DTSTART;TZID=America/Chicago:20251025T090000
DTEND;TZID=America/Chicago:20251025T170000
DTSTAMP:20260423T004224
CREATED:20250919T134931Z
LAST-MODIFIED:20250919T134931Z
UID:17572-1761382800-1761411600@development.disabilityrightstx.org
SUMMARY:We’re Exhibiting at the Making Connections Pediatric Brain Injury Conference & Resource Fair (Austin)
DESCRIPTION:DRTx will host an exhibit table at the Making Connections Pediatric Brain Injury Conference & Resource Fair. Stop by and learn more about DRTx!
URL:https://development.disabilityrightstx.org/en/event/were-exhibiting-at-the-making-connections-pediatric-brain-injury-conference-resource-fair-austin-2/
LOCATION:Woodlawn Baptist Church\, 4600 Menchaca Road\, Austin\, TX\, 78745\, United States
END:VEVENT
END:VCALENDAR