BEGIN:VCALENDAR
VERSION:2.0
PRODID:-//Disability Rights Texas - ECPv6.13.0//NONSGML v1.0//EN
CALSCALE:GREGORIAN
METHOD:PUBLISH
X-WR-CALNAME:Disability Rights Texas
X-ORIGINAL-URL:https://development.disabilityrightstx.org
X-WR-CALDESC:Events for Disability Rights Texas
REFRESH-INTERVAL;VALUE=DURATION:PT1H
X-Robots-Tag:noindex
X-PUBLISHED-TTL:PT1H
BEGIN:VTIMEZONE
TZID:America/Chicago
BEGIN:DAYLIGHT
TZOFFSETFROM:-0600
TZOFFSETTO:-0500
TZNAME:CDT
DTSTART:20250309T080000
END:DAYLIGHT
BEGIN:STANDARD
TZOFFSETFROM:-0500
TZOFFSETTO:-0600
TZNAME:CST
DTSTART:20251102T070000
END:STANDARD
END:VTIMEZONE
BEGIN:VEVENT
DTSTART;TZID=America/Chicago:20250201T083000
DTEND;TZID=America/Chicago:20250201T150000
DTSTAMP:20260424T040822
CREATED:20250113T163623Z
LAST-MODIFIED:20250113T163634Z
UID:15558-1738398600-1738422000@development.disabilityrightstx.org
SUMMARY:DRTx Board Meeting – February 2025
DESCRIPTION:This meeting will be held in the Austin office from 8:30 am to 3:00 pm. \nThe public is invited to provide comments during a specific time frame during the meeting which is still to be determined. If you would like to provide public comment in person or via Zoom at this meeting\, please complete our Board Meeting Public Comment Sign Up Form (en español) at least 3 days prior to the meeting. You can also use the form to provide public comment in writing. \n  \n 
URL:https://development.disabilityrightstx.org/en/event/drtx-board-meeting-february-2025/
LOCATION:TX
END:VEVENT
BEGIN:VEVENT
DTSTART;TZID=America/Chicago:20250208T090000
DTEND;TZID=America/Chicago:20250208T120000
DTSTAMP:20260424T040822
CREATED:20250114T152855Z
LAST-MODIFIED:20250114T152928Z
UID:15568-1739005200-1739016000@development.disabilityrightstx.org
SUMMARY:We’re Exhibiting at the 2025 NEISD Community Resource Fair (San Antonio)
DESCRIPTION:DRTx will host an exhibit table at the 2025 NEISD Community Resource Fair. Stop by and learn more about DRTx!
URL:https://development.disabilityrightstx.org/en/event/were-exhibiting-at-the-2025-neisd-community-resource-fair-san-antonio/
LOCATION:Lopez Middle School\, 23103 HARDY OAK BLVD.\, SAN ANTONIO\, TX\, 78258\, United States
END:VEVENT
BEGIN:VEVENT
DTSTART;VALUE=DATE:20250217
DTEND;VALUE=DATE:20250218
DTSTAMP:20260424T040822
CREATED:20250117T155528Z
LAST-MODIFIED:20250117T155600Z
UID:15593-1739750400-1739836799@development.disabilityrightstx.org
SUMMARY:DRTx offices closed for Presidents’ Day
DESCRIPTION:
URL:https://development.disabilityrightstx.org/en/event/drtx-offices-closed-for-presidents-day/
LOCATION:TX
END:VEVENT
BEGIN:VEVENT
DTSTART;TZID=America/Chicago:20250219T090000
DTEND;TZID=America/Chicago:20250219T123000
DTSTAMP:20260424T040822
CREATED:20250131T143852Z
LAST-MODIFIED:20250131T143852Z
UID:15709-1739955600-1739968200@development.disabilityrightstx.org
SUMMARY:We’re Exhibiting at the Career and Community Connections Fair (Cypress)
DESCRIPTION:DRTx will host an exhibit table at the Career and Community Connections Fair. Stop by and learn more about DRTx!
URL:https://development.disabilityrightstx.org/en/event/were-exhibiting-at-the-career-and-community-connections-fair-cypress/
LOCATION:The Berry Center\, 8877 Barker Cypress Rd\, Cypress\, TX\, 77433\, United States
END:VEVENT
BEGIN:VEVENT
DTSTART;TZID=America/Chicago:20250221T090000
DTEND;TZID=America/Chicago:20250221T120000
DTSTAMP:20260424T040822
CREATED:20250117T154209Z
LAST-MODIFIED:20250117T154209Z
UID:15585-1740128400-1740139200@development.disabilityrightstx.org
SUMMARY:We’re Exhibiting at the Region 4 Deaf and Hard of Hearing Fair (Houston)
DESCRIPTION:DRTx will host an exhibit table at the Region 4 Deaf and Hard of Hearing Fair. Stop by and learn more about DRTx!
URL:https://development.disabilityrightstx.org/en/event/were-exhibiting-at-the-region-4-deaf-and-hard-of-hearing-fair-houston/
LOCATION:McKinney Conference Center\, 7200 Northwest Drive\, Houston\, TX\, 77092\, United States
END:VEVENT
END:VCALENDAR