BEGIN:VCALENDAR
VERSION:2.0
PRODID:-//Disability Rights Texas - ECPv6.13.0//NONSGML v1.0//EN
CALSCALE:GREGORIAN
METHOD:PUBLISH
X-WR-CALNAME:Disability Rights Texas
X-ORIGINAL-URL:https://development.disabilityrightstx.org
X-WR-CALDESC:Events for Disability Rights Texas
REFRESH-INTERVAL;VALUE=DURATION:PT1H
X-Robots-Tag:noindex
X-PUBLISHED-TTL:PT1H
BEGIN:VTIMEZONE
TZID:America/Chicago
BEGIN:DAYLIGHT
TZOFFSETFROM:-0600
TZOFFSETTO:-0500
TZNAME:CDT
DTSTART:20240310T080000
END:DAYLIGHT
BEGIN:STANDARD
TZOFFSETFROM:-0500
TZOFFSETTO:-0600
TZNAME:CST
DTSTART:20241103T070000
END:STANDARD
END:VTIMEZONE
BEGIN:VEVENT
DTSTART;VALUE=DATE:20240727
DTEND;VALUE=DATE:20240728
DTSTAMP:20260424T191446
CREATED:20231002T145221Z
LAST-MODIFIED:20240123T201633Z
UID:13004-1722038400-1722124799@development.disabilityrightstx.org
SUMMARY:DRTx Board Meeting – July 2024
DESCRIPTION:This meeting will be held on Zoom. \nThe public is invited to provide comments during a specific time frame during the meeting. If you would like to provide public comment via Zoom at this meeting or in writing\, please complete our Board Meeting Public Comment Sign Up Form at least 3 days prior to the meeting. \n 
URL:https://development.disabilityrightstx.org/en/event/drtx-board-meeting-july-2024/
LOCATION:TX
END:VEVENT
END:VCALENDAR